BEGIN:VCALENDAR
VERSION:2.0
PRODID:-//Tennisclub Bardenberg | VfL Bardenberg 1936 e.V. - ECPv6.15.20//NONSGML v1.0//EN
CALSCALE:GREGORIAN
METHOD:PUBLISH
X-ORIGINAL-URL:https://www.tennisclubbardenberg.de
X-WR-CALDESC:Veranstaltungen für Tennisclub Bardenberg | VfL Bardenberg 1936 e.V.
REFRESH-INTERVAL;VALUE=DURATION:PT1H
X-Robots-Tag:noindex
X-PUBLISHED-TTL:PT1H
BEGIN:VTIMEZONE
TZID:Europe/Berlin
BEGIN:DAYLIGHT
TZOFFSETFROM:+0100
TZOFFSETTO:+0200
TZNAME:CEST
DTSTART:20230326T010000
END:DAYLIGHT
BEGIN:STANDARD
TZOFFSETFROM:+0200
TZOFFSETTO:+0100
TZNAME:CET
DTSTART:20231029T010000
END:STANDARD
BEGIN:DAYLIGHT
TZOFFSETFROM:+0100
TZOFFSETTO:+0200
TZNAME:CEST
DTSTART:20240331T010000
END:DAYLIGHT
BEGIN:STANDARD
TZOFFSETFROM:+0200
TZOFFSETTO:+0100
TZNAME:CET
DTSTART:20241027T010000
END:STANDARD
BEGIN:DAYLIGHT
TZOFFSETFROM:+0100
TZOFFSETTO:+0200
TZNAME:CEST
DTSTART:20250330T010000
END:DAYLIGHT
BEGIN:STANDARD
TZOFFSETFROM:+0200
TZOFFSETTO:+0100
TZNAME:CET
DTSTART:20251026T010000
END:STANDARD
END:VTIMEZONE
BEGIN:VEVENT
DTSTART;TZID=Europe/Berlin:20240316T100000
DTEND;TZID=Europe/Berlin:20240316T170000
DTSTAMP:20260421T124013
CREATED:20240301T074824Z
LAST-MODIFIED:20240301T074824Z
UID:5816-1710583200-1710608400@www.tennisclubbardenberg.de
SUMMARY:Mitgliederarbeitstag
DESCRIPTION:Hiermit laden wir euch herzlich zum Mitgliederarbeitstag am 16.03.2024 ab 10 Uhr ein\, an dem wir unsere Anlage aus dem Winterschlaf erwecken wollen. \nEs wird geputzt\, gewerkelt und aufgeräumt. Je mehr von euch kommen\, desto mehr bekommen wir geschafft! \nBringt bitte Arbeitssachen und Gartenhandschuhe mit. \nWir würden uns freuen\, wenn der ein oder andere einen Kuchen zur Stärkung mitbringen würde 🙂
URL:https://www.tennisclubbardenberg.de/veranstaltungen/mitgliederarbeitstag-2/
LOCATION:Tennisclub Bardenberg\, Sandberg\, Würselen\, 52146
END:VEVENT
END:VCALENDAR