BEGIN:VCALENDAR
VERSION:2.0
PRODID:-//Tennisclub Bardenberg | VfL Bardenberg 1936 e.V. - ECPv6.15.20//NONSGML v1.0//EN
CALSCALE:GREGORIAN
METHOD:PUBLISH
X-WR-CALNAME:Tennisclub Bardenberg | VfL Bardenberg 1936 e.V.
X-ORIGINAL-URL:https://www.tennisclubbardenberg.de
X-WR-CALDESC:Veranstaltungen für Tennisclub Bardenberg | VfL Bardenberg 1936 e.V.
REFRESH-INTERVAL;VALUE=DURATION:PT1H
X-Robots-Tag:noindex
X-PUBLISHED-TTL:PT1H
BEGIN:VTIMEZONE
TZID:Europe/Berlin
BEGIN:DAYLIGHT
TZOFFSETFROM:+0100
TZOFFSETTO:+0200
TZNAME:CEST
DTSTART:20240331T010000
END:DAYLIGHT
BEGIN:STANDARD
TZOFFSETFROM:+0200
TZOFFSETTO:+0100
TZNAME:CET
DTSTART:20241027T010000
END:STANDARD
BEGIN:DAYLIGHT
TZOFFSETFROM:+0100
TZOFFSETTO:+0200
TZNAME:CEST
DTSTART:20250330T010000
END:DAYLIGHT
BEGIN:STANDARD
TZOFFSETFROM:+0200
TZOFFSETTO:+0100
TZNAME:CET
DTSTART:20251026T010000
END:STANDARD
BEGIN:DAYLIGHT
TZOFFSETFROM:+0100
TZOFFSETTO:+0200
TZNAME:CEST
DTSTART:20260329T010000
END:DAYLIGHT
BEGIN:STANDARD
TZOFFSETFROM:+0200
TZOFFSETTO:+0100
TZNAME:CET
DTSTART:20261025T010000
END:STANDARD
END:VTIMEZONE
BEGIN:VEVENT
DTSTART;TZID=Europe/Berlin:20250408T190000
DTEND;TZID=Europe/Berlin:20250408T210000
DTSTAMP:20260422T044107
CREATED:20250223T154408Z
LAST-MODIFIED:20250223T154408Z
UID:6181-1744138800-1744146000@www.tennisclubbardenberg.de
SUMMARY:Generalversammlung 2025
DESCRIPTION:Die Versammlung findet am Dienstag den 08. April 2025 um 19 Uhr im VFL Tennisheim statt.\nTagesordnung: Begrüßung durch den 1. Vorsitzenden der Tennisabteilung\, Feststellung der Anwesenden\, Gedenken an verstorbene Mitglieder\, Wahl des Protokollführers\, Wahl eines Vorstandes\, Berichte der Fachwarte (Kassenwart\, Sportwart\, Jugendwart\, Bericht der Kassenprüfer). Entlastung des Vorstands. Sonstiges (Anträge\, Anfragen\, Verschiedenes)   Gemäß § 7\, Art. 3 der Abteilungsordnung der Tennisabteilung haben alle stimmberechtigten Mitglieder das Recht\, bis zum 15. März 2025 beim Vorstand unter der E-Mail-Adresse tennis-bardenberg@gmx.de weitere Tagesordnungspunkte zu beantragen. Während der Versammlung können solche Anträge nicht mehr gestellt werden.
URL:https://www.tennisclubbardenberg.de/veranstaltungen/generalversammlung-2025/
LOCATION:Tennisclub Bardenberg\, Sandberg\, Würselen\, 52146
END:VEVENT
END:VCALENDAR