BEGIN:VCALENDAR
VERSION:2.0
PRODID:-//Tennisclub Bardenberg | VfL Bardenberg 1936 e.V. - ECPv6.15.20//NONSGML v1.0//EN
CALSCALE:GREGORIAN
METHOD:PUBLISH
X-ORIGINAL-URL:https://www.tennisclubbardenberg.de
X-WR-CALDESC:Veranstaltungen für Tennisclub Bardenberg | VfL Bardenberg 1936 e.V.
REFRESH-INTERVAL;VALUE=DURATION:PT1H
X-Robots-Tag:noindex
X-PUBLISHED-TTL:PT1H
BEGIN:VTIMEZONE
TZID:Europe/Berlin
BEGIN:DAYLIGHT
TZOFFSETFROM:+0100
TZOFFSETTO:+0200
TZNAME:CEST
DTSTART:20230326T010000
END:DAYLIGHT
BEGIN:STANDARD
TZOFFSETFROM:+0200
TZOFFSETTO:+0100
TZNAME:CET
DTSTART:20231029T010000
END:STANDARD
BEGIN:DAYLIGHT
TZOFFSETFROM:+0100
TZOFFSETTO:+0200
TZNAME:CEST
DTSTART:20240331T010000
END:DAYLIGHT
BEGIN:STANDARD
TZOFFSETFROM:+0200
TZOFFSETTO:+0100
TZNAME:CET
DTSTART:20241027T010000
END:STANDARD
BEGIN:DAYLIGHT
TZOFFSETFROM:+0100
TZOFFSETTO:+0200
TZNAME:CEST
DTSTART:20250330T010000
END:DAYLIGHT
BEGIN:STANDARD
TZOFFSETFROM:+0200
TZOFFSETTO:+0100
TZNAME:CET
DTSTART:20251026T010000
END:STANDARD
END:VTIMEZONE
BEGIN:VEVENT
DTSTART;TZID=Europe/Berlin:20240915T110000
DTEND;TZID=Europe/Berlin:20240915T190000
DTSTAMP:20260421T183916
CREATED:20240712T073229Z
LAST-MODIFIED:20240712T073229Z
UID:6110-1726398000-1726426800@www.tennisclubbardenberg.de
SUMMARY:Sommerfest 2024
DESCRIPTION:Das größte Fest des Jahres mit den Finalspielen der Clubmeisterschaft. \nSportliche Wettkämpfe\, Geselligkeit und leckeres Essen runden diesen Tag ab. \nMeldet euch bitte für diese Veranstaltung an\, damit wir besser planen können (courtbooking oder über das Kontaktformular)
URL:https://www.tennisclubbardenberg.de/veranstaltungen/sommerfest-2024/
LOCATION:Tennisclub Bardenberg\, Sandberg\, Würselen\, 52146
END:VEVENT
END:VCALENDAR