BEGIN:VCALENDAR
VERSION:2.0
PRODID:-//Tennisclub Bardenberg | VfL Bardenberg 1936 e.V. - ECPv6.15.20//NONSGML v1.0//EN
CALSCALE:GREGORIAN
METHOD:PUBLISH
X-ORIGINAL-URL:https://www.tennisclubbardenberg.de
X-WR-CALDESC:Veranstaltungen für Tennisclub Bardenberg | VfL Bardenberg 1936 e.V.
REFRESH-INTERVAL;VALUE=DURATION:PT1H
X-Robots-Tag:noindex
X-PUBLISHED-TTL:PT1H
BEGIN:VTIMEZONE
TZID:Europe/Berlin
BEGIN:DAYLIGHT
TZOFFSETFROM:+0100
TZOFFSETTO:+0200
TZNAME:CEST
DTSTART:20250330T010000
END:DAYLIGHT
BEGIN:STANDARD
TZOFFSETFROM:+0200
TZOFFSETTO:+0100
TZNAME:CET
DTSTART:20251026T010000
END:STANDARD
BEGIN:DAYLIGHT
TZOFFSETFROM:+0100
TZOFFSETTO:+0200
TZNAME:CEST
DTSTART:20260329T010000
END:DAYLIGHT
BEGIN:STANDARD
TZOFFSETFROM:+0200
TZOFFSETTO:+0100
TZNAME:CET
DTSTART:20261025T010000
END:STANDARD
BEGIN:DAYLIGHT
TZOFFSETFROM:+0100
TZOFFSETTO:+0200
TZNAME:CEST
DTSTART:20270328T010000
END:DAYLIGHT
BEGIN:STANDARD
TZOFFSETFROM:+0200
TZOFFSETTO:+0100
TZNAME:CET
DTSTART:20271031T010000
END:STANDARD
END:VTIMEZONE
BEGIN:VEVENT
DTSTART;VALUE=DATE:20260920
DTEND;VALUE=DATE:20260921
DTSTAMP:20260423T044810
CREATED:20260414T201625Z
LAST-MODIFIED:20260414T201753Z
UID:6525-1789862400-1789948799@www.tennisclubbardenberg.de
SUMMARY:Saisonabschluss & Finalspiele
DESCRIPTION:Ein Highlight zum Saisonende: Am 20. September feiern wir beim VfL Bardenberg Tennisverein den großen Abschluss der Saison mit den Finalspielen der Clubmeisterschaften. \nFreu dich auf spannende Matches\, hochklassiges Tennis und echte Final-Atmosphäre. Hier entscheidet sich\, wer sich in diesem Jahr den Titel sichert – Spannung garantiert! \nDie genaue Startuhrzeit wird noch bekannt gegeben. Komm vorbei\, feuere die Spieler an und genieße gemeinsam mit uns einen unvergesslichen Saisonabschluss!
URL:https://www.tennisclubbardenberg.de/veranstaltungen/saisonabschluss-finalspiele/
END:VEVENT
BEGIN:VEVENT
DTSTART;VALUE=DATE:20260927
DTEND;VALUE=DATE:20260928
DTSTAMP:20260423T044810
CREATED:20260414T201838Z
LAST-MODIFIED:20260414T201838Z
UID:6527-1790467200-1790553599@www.tennisclubbardenberg.de
SUMMARY:Düvel-Cup 2026 – Es wird wieder teuflisch gut!
DESCRIPTION:Der Düvel-Cup geht in die nächste Runde – und verspricht erneut einen „teuflisch“ guten Tennistag! Nach dem erfolgreichen Neustart freut sich die ganze Region auf die Fortsetzung der inoffiziellen Tennis-Stadtmeisterschaft. \nAm 27.09.2026 treffen sich die Mannschaften\, um um Punkte\, Ruhm und natürlich den begehrten Wanderpokal zu spielen. Gastgeber ist diesmal der TC Würselen\, der für beste Bedingungen sorgen wird. \nFreu dich auf packende Matches\, leidenschaftliches Tennis und die ganz besondere Atmosphäre\, wenn sportlicher Ehrgeiz und geselliges Miteinander aufeinandertreffen. Denn beim Düvel-Cup wird nicht nur um jeden Ball gekämpft – sondern auch gemeinsam gefeiert. \nAlso: Termin vormerken und bereit sein\, wenn es wieder heißt – auf dem Platz wird’s teuflisch spannend!
URL:https://www.tennisclubbardenberg.de/veranstaltungen/duevel-cup-2026-es-wird-wieder-teuflisch-gut/
END:VEVENT
END:VCALENDAR