BEGIN:VCALENDAR
VERSION:2.0
PRODID:-//Tennisclub Bardenberg | VfL Bardenberg 1936 e.V. - ECPv6.15.20//NONSGML v1.0//EN
CALSCALE:GREGORIAN
METHOD:PUBLISH
X-WR-CALNAME:Tennisclub Bardenberg | VfL Bardenberg 1936 e.V.
X-ORIGINAL-URL:https://www.tennisclubbardenberg.de
X-WR-CALDESC:Veranstaltungen für Tennisclub Bardenberg | VfL Bardenberg 1936 e.V.
REFRESH-INTERVAL;VALUE=DURATION:PT1H
X-Robots-Tag:noindex
X-PUBLISHED-TTL:PT1H
BEGIN:VTIMEZONE
TZID:Europe/Berlin
BEGIN:DAYLIGHT
TZOFFSETFROM:+0100
TZOFFSETTO:+0200
TZNAME:CEST
DTSTART:20250330T010000
END:DAYLIGHT
BEGIN:STANDARD
TZOFFSETFROM:+0200
TZOFFSETTO:+0100
TZNAME:CET
DTSTART:20251026T010000
END:STANDARD
BEGIN:DAYLIGHT
TZOFFSETFROM:+0100
TZOFFSETTO:+0200
TZNAME:CEST
DTSTART:20260329T010000
END:DAYLIGHT
BEGIN:STANDARD
TZOFFSETFROM:+0200
TZOFFSETTO:+0100
TZNAME:CET
DTSTART:20261025T010000
END:STANDARD
BEGIN:DAYLIGHT
TZOFFSETFROM:+0100
TZOFFSETTO:+0200
TZNAME:CEST
DTSTART:20270328T010000
END:DAYLIGHT
BEGIN:STANDARD
TZOFFSETFROM:+0200
TZOFFSETTO:+0100
TZNAME:CET
DTSTART:20271031T010000
END:STANDARD
END:VTIMEZONE
BEGIN:VEVENT
DTSTART;VALUE=DATE:20261031
DTEND;VALUE=DATE:20261101
DTSTAMP:20260423T060550
CREATED:20260414T202013Z
LAST-MODIFIED:20260414T202013Z
UID:6529-1793404800-1793491199@www.tennisclubbardenberg.de
SUMMARY:Abschlagfest & Halloweenparty – 31. Oktober
DESCRIPTION:Die beste Feier des Jahres steht an! Am 31. Oktober wird es beim VfL Bardenberg Tennisverein wieder legendär – beim Abschlagfest diesmal im schaurig-schönen Halloween-Style. \nFreu dich auf eine Nacht voller guter Stimmung\, Musik und Überraschungen. Ob gruselig\, kreativ oder einfach verrückt – Kostüme sind ausdrücklich erwünscht! Beim Kostümwettbewerb warten natürlich auch kleine Highlights auf die besten Verkleidungen. \nDich erwarten eine besondere Atmosphäre\, viele lachende Gesichter und eine Party\, über die man noch lange spricht – schaurig gut eben!
URL:https://www.tennisclubbardenberg.de/veranstaltungen/abschlagfest-halloweenparty-31-oktober/
END:VEVENT
END:VCALENDAR